BEGIN:VCALENDAR
CALSCALE:GREGORIAN
PRODID:-//Apple Inc.//macOS 26.2//EN
VERSION:2.0
BEGIN:VEVENT
CREATED:20250510T224937Z
DESCRIPTION:https://www.speechwire.com/c-info.php?tournid=20930
DTEND;VALUE=DATE:20260215
DTSTAMP:20260114T223535Z
DTSTART;VALUE=DATE:20260214
LAST-MODIFIED:20260114T223527Z
LOCATION:North High School\n1801 Piedmont Rd\, Eau Claire\, WI  54703-08
 00\, United States
SEQUENCE:2
SUMMARY:Eau Claire North Tournament [T]
TRANSP:TRANSPARENT
UID:A3B100DA-694A-4461-AF15-1117ED0C11DC
URL;VALUE=URI:https://www.speechwire.com/c-info.php?tournid=20930
X-APPLE-CREATOR-IDENTITY:com.apple.calendar
X-APPLE-STRUCTURED-LOCATION;VALUE=URI;X-APPLE-RADIUS=14147.72951950116;X
 -TITLE="North High School\n1801 Piedmont Rd, Eau Claire, WI  54703-0800,
  United States":geo:44.845238,-91.482938
END:VEVENT
END:VCALENDAR
